{
 "extent": {
  "ymin": 37.559576355919546,
  "xmin": 126.78626783595449,
  "ymax": 37.685410212246694,
  "xmax": 126.91210169228164,
  "spatialReference": {
   "latestWkid": 4326,
   "wkid": 4326
  }
 },
 "blockWidth": 256,
 "mosaicOperator": "First",
 "serviceSourceType": "esriImageServiceSourceTypeDataset",
 "hasMultidimensions": true,
 "maxImageWidth": 15000,
 "meanValues": [
  0.0057636316207352488,
  0.011514414485377896
 ],
 "hasColormap": false,
 "compressionType": "LERC2D",
 "defaultCompressionQuality": 75,
 "maxValues": [
  8.7792024612426758,
  30.114330291748047
 ],
 "hasHistograms": true,
 "datasetFormat": "Cache/LERC2D",
 "maxImageHeight": 15000,
 "sortField": "",
 "bandNames": [
  "Vector_U",
  "Vector_V"
 ],
 "spatialReference": {
  "latestWkid": 4326,
  "wkid": 4326
 },
 "fullExtent": {
  "ymin": 37.559576355919546,
  "xmin": 126.78626783595449,
  "ymax": 37.685410212246694,
  "xmax": 126.91210169228164,
  "spatialReference": {
   "latestWkid": 4326,
   "wkid": 4326
  }
 },
 "bandCount": 2,
 "rasterFunctionInfos": [
  {
   "help": "",
   "name": "None",
   "description": ""
  }
 ],
 "supportsStatistics": false,
 "sortableFields": "",
 "minValues": [
  0,
  0
 ],
 "allowRasterFunction": true,
 "allowComputeTiePoints": false,
 "serviceDataType": "esriImageServiceDataTypeVector-UV",
 "supportsAdvancedQueries": false,
 "currentVersion": 12,
 "sortValue": null,
 "timeInfo": {
  "startTimeField": "StdTime",
  "endTimeField": "StdTime",
  "defaultTimeIntervalUnits": "esriTimeUnitsMinutes",
  "timeExtent": [
   1755054599997,
   1755061200000
  ],
  "timeReference": null,
  "defaultTimeInterval": 10
 },
 "objectIdField": "",
 "blockHeight": 256,
 "initialExtent": {
  "ymin": 37.559576355919546,
  "xmin": 126.78626783595449,
  "ymax": 37.685410212246694,
  "xmax": 126.91210169228164,
  "spatialReference": {
   "latestWkid": 4326,
   "wkid": 4326
  }
 },
 "pixelSizeX": 0.000030721156329870103,
 "pixelSizeY": 0.000030721156329870103,
 "defaultMosaicMethod": "Center",
 "name": "Goyang1_WaterVelocity_crf",
 "allowedMosaicMethods": "",
 "fields": [],
 "defaultVariable": "",
 "bsq": false,
 "allowAnalysis": true,
 "hasRasterAttributeTable": false,
 "useStandardizedQueries": false,
 "description": "",
 "pixelType": "F32",
 "meanPixelSize": 3.4198634792216929,
 "exportTilesAllowed": false,
 "editFieldsInfo": null,
 "rasterTypeInfos": [
  {
   "help": "",
   "name": "Raster Dataset",
   "description": "Supports all ArcGIS Raster Datasets"
  }
 ],
 "defaultResamplingMethod": "Bilinear",
 "itemAccess": false,
 "minScale": 0,
 "serviceProperties": "Center<\/MosaicMethod>First<\/MosaicOperator>true<\/SortAscending><\/LockImageID><\/TileOrderField>0<\/TileOrderBase>0.000000<\/AvgImageSpacingX>0.000000<\/AvgImageSpacingY>0.0<\/ViewPointX>0.0<\/ViewPointY>0.0<\/ViewPointDefShiftX>0.0<\/ViewPointDefShiftY>None<\/CompressionMethod>75<\/CompressionQuality>0.010000<\/CompressionTolerance>Bilinear<\/SamplingMethod><\/ImageServiceProperties><\/ImageServer>",
 "advancedQueryCapabilities": {
  "supportsStatistics": false,
  "supportsSqlExpression": false,
  "supportsOrderBy": false,
  "useStandardizedQueries": false,
  "supportsPagination": false,
  "supportsDistinct": false
 },
 "serviceItemId": "f5c2d8d955b54fa388ed7f578f4b4406",
 "capabilities": "Mensuration,Image,Metadata",
 "maxScale": 0,
 "stdvValues": [
  0.051511988919190704,
  0.11883012319636158
 ],
 "allowedFields": "",
 "minPixelSize": 0,
 "resampling": false,
 "noDataValues": [
  -8192,
  -8192
 ],
 "sortAscending": true,
 "inspectionCapabilities": "",
 "maxPixelSize": 0,
 "noDataValue": -8192,
 "uncompressedSize": 134217728,
 "serviceDescription": "Goyang1_WaterVelocity_crf",
 "allowCopy": true,
 "copyrightText": "",
 "mensurationCapabilities": "Basic",
 "ownershipBasedAccessControlForRasters": null
}
