{
 "extent": {
  "ymin": 37.631403172645001,
  "xmin": 126.80650488985727,
  "ymax": 37.757518124578802,
  "xmax": 126.93261984179107,
  "spatialReference": {
   "latestWkid": 4326,
   "wkid": 4326
  }
 },
 "blockWidth": 256,
 "mosaicOperator": "First",
 "serviceSourceType": "esriImageServiceSourceTypeDataset",
 "hasMultidimensions": true,
 "maxImageWidth": 15000,
 "meanValues": [
  0.033859247766446367,
  0.014824407494086827
 ],
 "hasColormap": false,
 "compressionType": "LERC2D",
 "defaultCompressionQuality": 75,
 "maxValues": [
  40.076099395751953,
  34.0672607421875
 ],
 "hasHistograms": true,
 "datasetFormat": "Cache/LERC2D",
 "maxImageHeight": 15000,
 "sortField": "",
 "bandNames": [
  "Vector_U",
  "Vector_V"
 ],
 "spatialReference": {
  "latestWkid": 4326,
  "wkid": 4326
 },
 "fullExtent": {
  "ymin": 37.631403172645001,
  "xmin": 126.80650488985727,
  "ymax": 37.757518124578802,
  "xmax": 126.93261984179107,
  "spatialReference": {
   "latestWkid": 4326,
   "wkid": 4326
  }
 },
 "bandCount": 2,
 "rasterFunctionInfos": [
  {
   "help": "",
   "name": "None",
   "description": ""
  }
 ],
 "supportsStatistics": false,
 "sortableFields": "",
 "minValues": [
  0,
  0
 ],
 "allowRasterFunction": true,
 "allowComputeTiePoints": false,
 "serviceDataType": "esriImageServiceDataTypeVector-UV",
 "supportsAdvancedQueries": false,
 "currentVersion": 12,
 "sortValue": null,
 "timeInfo": {
  "startTimeField": "StdTime",
  "endTimeField": "StdTime",
  "defaultTimeIntervalUnits": "esriTimeUnitsMinutes",
  "timeExtent": [
   1755054599993,
   1755061200000
  ],
  "timeReference": null,
  "defaultTimeInterval": 10
 },
 "objectIdField": "",
 "blockHeight": 256,
 "initialExtent": {
  "ymin": 37.631403172645001,
  "xmin": 126.80650488985727,
  "ymax": 37.757518124578802,
  "xmax": 126.93261984179107,
  "spatialReference": {
   "latestWkid": 4326,
   "wkid": 4326
  }
 },
 "pixelSizeX": 0.000030789783186963016,
 "pixelSizeY": 0.000030789783186963016,
 "defaultMosaicMethod": "Center",
 "name": "Goyang3_WaterVelocity_crf",
 "allowedMosaicMethods": "",
 "fields": [],
 "defaultVariable": "",
 "bsq": false,
 "allowAnalysis": true,
 "hasRasterAttributeTable": false,
 "useStandardizedQueries": false,
 "description": "",
 "pixelType": "F32",
 "meanPixelSize": 3.4275029860080188,
 "exportTilesAllowed": false,
 "editFieldsInfo": null,
 "rasterTypeInfos": [
  {
   "help": "",
   "name": "Raster Dataset",
   "description": "Supports all ArcGIS Raster Datasets"
  }
 ],
 "defaultResamplingMethod": "Bilinear",
 "itemAccess": false,
 "minScale": 0,
 "serviceProperties": "Center<\/MosaicMethod>First<\/MosaicOperator>true<\/SortAscending><\/LockImageID><\/TileOrderField>0<\/TileOrderBase>0.000000<\/AvgImageSpacingX>0.000000<\/AvgImageSpacingY>0.0<\/ViewPointX>0.0<\/ViewPointY>0.0<\/ViewPointDefShiftX>0.0<\/ViewPointDefShiftY>None<\/CompressionMethod>75<\/CompressionQuality>0.010000<\/CompressionTolerance>Bilinear<\/SamplingMethod><\/ImageServiceProperties><\/ImageServer>",
 "advancedQueryCapabilities": {
  "supportsStatistics": false,
  "supportsSqlExpression": false,
  "supportsOrderBy": false,
  "useStandardizedQueries": false,
  "supportsPagination": false,
  "supportsDistinct": false
 },
 "serviceItemId": "fb1cc12de1b34e41b34b908781fca032",
 "capabilities": "Mensuration,Image,Metadata",
 "maxScale": 0,
 "stdvValues": [
  0.4853436742870208,
  0.16310088552460214
 ],
 "allowedFields": "",
 "minPixelSize": 0,
 "resampling": false,
 "noDataValues": [
  -8192,
  -8192
 ],
 "sortAscending": true,
 "inspectionCapabilities": "",
 "maxPixelSize": 0,
 "noDataValue": -8192,
 "uncompressedSize": 134217728,
 "serviceDescription": "Goyang3_WaterVelocity_crf",
 "allowCopy": true,
 "copyrightText": "",
 "mensurationCapabilities": "Basic",
 "ownershipBasedAccessControlForRasters": null
}
