{
 "extent": {
  "ymin": 1766548.7544896961,
  "xmin": 919282.45771994116,
  "ymax": 1781827.6761263337,
  "xmax": 934561.37935657869,
  "spatialReference": {
   "latestWkid": 5179,
   "wkid": 102080
  }
 },
 "blockWidth": 256,
 "mosaicOperator": "First",
 "serviceSourceType": "esriImageServiceSourceTypeDataset",
 "hasMultidimensions": true,
 "maxImageWidth": 15000,
 "meanValues": [
  0.13508367414134956
 ],
 "hasColormap": false,
 "compressionType": "LERC2D",
 "defaultCompressionQuality": 75,
 "maxValues": [
  9.2885971069335938
 ],
 "hasHistograms": true,
 "datasetFormat": "Cache/LERC2D",
 "maxImageHeight": 15000,
 "sortField": "",
 "bandNames": [
  "Water Depth"
 ],
 "spatialReference": {
  "latestWkid": 5179,
  "wkid": 102080
 },
 "fullExtent": {
  "ymin": 1766548.7544896961,
  "xmin": 919282.45771994116,
  "ymax": 1781827.6761263337,
  "xmax": 934561.37935657869,
  "spatialReference": {
   "latestWkid": 5179,
   "wkid": 102080
  }
 },
 "bandCount": 1,
 "rasterFunctionInfos": [
  {
   "help": "",
   "name": "None",
   "description": ""
  }
 ],
 "supportsStatistics": false,
 "sortableFields": "",
 "minValues": [
  0
 ],
 "allowRasterFunction": true,
 "allowComputeTiePoints": false,
 "serviceDataType": "esriImageServiceDataTypeGeneric",
 "supportsAdvancedQueries": false,
 "currentVersion": 12,
 "sortValue": null,
 "timeInfo": {
  "startTimeField": "StdTime",
  "endTimeField": "StdTime",
  "defaultTimeIntervalUnits": "esriTimeUnitsMinutes",
  "timeExtent": [
   1757175599990,
   1757188800000
  ],
  "timeReference": null,
  "defaultTimeInterval": 20
 },
 "objectIdField": "",
 "blockHeight": 256,
 "initialExtent": {
  "ymin": 1766548.7544896961,
  "xmin": 919282.45771994116,
  "ymax": 1781827.6761263337,
  "xmax": 934561.37935657869,
  "spatialReference": {
   "latestWkid": 5179,
   "wkid": 102080
  }
 },
 "pixelSizeX": 3.7302054776947102,
 "pixelSizeY": 3.7302054776947102,
 "defaultMosaicMethod": "Center",
 "name": "Gunsan_WaterDepth_crf",
 "allowedMosaicMethods": "",
 "fields": [],
 "defaultVariable": "",
 "bsq": false,
 "allowAnalysis": true,
 "hasRasterAttributeTable": false,
 "useStandardizedQueries": false,
 "description": "",
 "pixelType": "F32",
 "meanPixelSize": 3.7302054776947102,
 "exportTilesAllowed": false,
 "editFieldsInfo": null,
 "rasterTypeInfos": [
  {
   "help": "",
   "name": "Raster Dataset",
   "description": "Supports all ArcGIS Raster Datasets"
  }
 ],
 "defaultResamplingMethod": "Bilinear",
 "itemAccess": false,
 "minScale": 0,
 "serviceProperties": "Center<\/MosaicMethod>First<\/MosaicOperator>true<\/SortAscending><\/LockImageID><\/TileOrderField>0<\/TileOrderBase>0.000000<\/AvgImageSpacingX>0.000000<\/AvgImageSpacingY>0.0<\/ViewPointX>0.0<\/ViewPointY>0.0<\/ViewPointDefShiftX>0.0<\/ViewPointDefShiftY>None<\/CompressionMethod>75<\/CompressionQuality>0.010000<\/CompressionTolerance>Bilinear<\/SamplingMethod><\/ImageServiceProperties><\/ImageServer>",
 "advancedQueryCapabilities": {
  "supportsStatistics": false,
  "supportsSqlExpression": false,
  "supportsOrderBy": false,
  "useStandardizedQueries": false,
  "supportsPagination": false,
  "supportsDistinct": false
 },
 "serviceItemId": "121a555a49e1497a918bf162411097d4",
 "capabilities": "Image,Metadata,Mensuration",
 "maxScale": 0,
 "stdvValues": [
  0.27346530565839178
 ],
 "allowedFields": "",
 "minPixelSize": 0,
 "noDataValues": [
  -8192
 ],
 "sortAscending": true,
 "inspectionCapabilities": "",
 "maxPixelSize": 0,
 "noDataValue": -8192,
 "uncompressedSize": 67108864,
 "serviceDescription": "Gunsan_WaterDepth_crf",
 "allowCopy": true,
 "copyrightText": "",
 "mensurationCapabilities": "Basic",
 "ownershipBasedAccessControlForRasters": null
}
