{
 "documentInfo": {
  "Category": "",
  "Keywords": "",
  "Version": "3.5.0",
  "Comments": "",
  "AntialiasingMode": "None",
  "Title": "Map",
  "Author": "",
  "TextAntialiasingMode": "Force",
  "Subject": ""
 },
 "maxImageWidth": 4096,
 "maxRecordCount": 1000,
 "tileInfo": {
  "lods": [
   {
    "level": 0,
    "scale": 295215470.75599432,
    "resolution": 78109.0933041901735
   },
   {
    "level": 1,
    "scale": 147607735.37799716,
    "resolution": 39054.5466520950868
   },
   {
    "level": 2,
    "scale": 73803867.68899858,
    "resolution": 19527.2733260475434
   },
   {
    "level": 3,
    "scale": 36901933.84449929,
    "resolution": 9763.63666302377169
   },
   {
    "level": 4,
    "scale": 18450966.922249645,
    "resolution": 4881.81833151188584
   },
   {
    "level": 5,
    "scale": 9225483.4611248225,
    "resolution": 2440.90916575594292
   },
   {
    "level": 6,
    "scale": 4612741.73056241125,
    "resolution": 1220.45458287797146
   },
   {
    "level": 7,
    "scale": 2306370.86528120562,
    "resolution": 610.227291438985731
   },
   {
    "level": 8,
    "scale": 1153185.43264060281,
    "resolution": 305.113645719492865
   },
   {
    "level": 9,
    "scale": 576592.716320301406,
    "resolution": 152.556822859746433
   },
   {
    "level": 10,
    "scale": 288296.3581601507,
    "resolution": 76.2784114298732163
   },
   {
    "level": 11,
    "scale": 144148.179080075352,
    "resolution": 38.1392057149366082
   },
   {
    "level": 12,
    "scale": 72074.0895400376758,
    "resolution": 19.0696028574683041
   },
   {
    "level": 13,
    "scale": 36037.0447700188379,
    "resolution": 9.534801428734152
   },
   {
    "level": 14,
    "scale": 18018.5223850094189,
    "resolution": 4.767400714367076
   },
   {
    "level": 15,
    "scale": 9009.26119250470947,
    "resolution": 2.383700357183538
   },
   {
    "level": 16,
    "scale": 4504.63059625235474,
    "resolution": 1.191850178591769
   },
   {
    "level": 17,
    "scale": 2252.31529812617737,
    "resolution": 0.5959250892958845
   },
   {
    "level": 18,
    "scale": 1126.15764906308868,
    "resolution": 0.29796254464794225
   },
   {
    "level": 19,
    "scale": 563.078824531544342,
    "resolution": 0.14898127232397113
   },
   {
    "level": 20,
    "scale": 281.539412265772171,
    "resolution": 0.074490636161985563
   },
   {
    "level": 21,
    "scale": 140.769706132886085,
    "resolution": 0.037245318080992781
   },
   {
    "level": 22,
    "scale": 70.3848530664430427,
    "resolution": 0.018622659040496391
   },
   {
    "level": 23,
    "scale": 35.1924265332215214,
    "resolution": 0.0093113295202481954
   }
  ],
  "origin": {
   "x": -8997963.94293634221,
   "y": 7792148.92310048267
  },
  "format": "Mixed",
  "compressionQuality": 75,
  "rows": 256,
  "dpi": 96,
  "spatialReference": {
   "falseM": -100000,
   "xyTolerance": 0.001,
   "mUnits": 10000,
   "zUnits": 10000,
   "latestWkid": 5179,
   "zTolerance": 0.001,
   "wkid": 102080,
   "xyUnits": 10000,
   "mTolerance": 0.001,
   "falseX": -4620900,
   "falseY": -12203900,
   "falseZ": -100000
  },
  "cols": 256
 },
 "description": "",
 "datesInUnknownTimezone": false,
 "supportsQueryDomains": true,
 "units": "esriMeters",
 "maxSelectionCount": 2000,
 "supportedImageFormatTypes": "PNG32,PNG24,PNG,JPG,DIB,TIFF,EMF,PS,PDF,GIF,SVG,SVGZ,BMP",
 "supportsClipping": true,
 "maxImageHeight": 4096,
 "exportTilesAllowed": false,
 "tables": [],
 "supportsDatumTransformation": true,
 "cimVersion": "3.5.0",
 "supportsQueryDataElements": true,
 "layers": [
  {
   "subLayerIds": null,
   "maxScale": 0,
   "name": "Goyang1_WaterDepth_720000.tif",
   "defaultVisibility": true,
   "id": 0,
   "minScale": 0,
   "supportsDynamicLegends": true,
   "type": "Raster Layer",
   "parentLayerId": -1
  },
  {
   "subLayerIds": null,
   "maxScale": 0,
   "name": "Goyang2_WaterDepth_720000.tif",
   "defaultVisibility": true,
   "id": 1,
   "minScale": 0,
   "supportsDynamicLegends": true,
   "type": "Raster Layer",
   "parentLayerId": -1
  },
  {
   "subLayerIds": null,
   "maxScale": 0,
   "name": "Goyang3_WaterDepth_720000.tif",
   "defaultVisibility": true,
   "id": 2,
   "minScale": 0,
   "supportsDynamicLegends": true,
   "type": "Raster Layer",
   "parentLayerId": -1
  }
 ],
 "mapName": "Map",
 "archivingInfo": {
  "supportsHistoricMoment": false
 },
 "minScale": 4612741.73056241125,
 "spatialReference": {
  "falseM": -100000,
  "xyTolerance": 0.001,
  "mUnits": 10000,
  "zUnits": 10000,
  "latestWkid": 5179,
  "zTolerance": 0.001,
  "wkid": 102080,
  "xyUnits": 10000,
  "mTolerance": 0.001,
  "falseX": -4620900,
  "falseY": -12203900,
  "falseZ": -100000
 },
 "fullExtent": {
  "ymin": 1951298.30227436009,
  "xmin": 929392.119310243055,
  "ymax": 1973323.0652515986,
  "xmax": 950021.755473123863,
  "spatialReference": {
   "falseM": -100000,
   "xyTolerance": 0.001,
   "mUnits": 10000,
   "zUnits": 10000,
   "latestWkid": 5179,
   "zTolerance": 0.001,
   "wkid": 102080,
   "xyUnits": 10000,
   "mTolerance": 0.001,
   "falseX": -4620900,
   "falseY": -12203900,
   "falseZ": -100000
  }
 },
 "supportedExtensions": "",
 "serviceItemId": "d5a6593e51bc40aeaf33c1c805f1e924",
 "capabilities": "TilesOnly,Tilemap",
 "supportsDynamicLayers": false,
 "maxScale": 563.078824531544342,
 "singleFusedMapCache": true,
 "currentVersion": 11.5,
 "storageInfo": {
  "storageFormat": "esriMapCacheStorageModeCompactV2",
  "packetSize": 128
 },
 "mapUnits": {
  "uwkid": 9001
 },
 "referenceScale": 0,
 "floorAwareMapProperties": {
  "defaultFloorFilterSettings": {
   "isEnabled": false
  }
 },
 "maxExportTilesCount": 100000,
 "supportsSpatialFilter": true,
 "maxLOD": 19,
 "supportedQueryFormats": "JSON, geoJSON, PBF",
 "datumTransformations": [
  {
   "geoTransforms": [
    {
     "latestWkid": 15831,
     "transformForward": false,
     "wkid": 15831,
     "name": "KGD2002_To_WGS_1984_1"
    }
   ]
  },
  {
   "geoTransforms": [
    {
     "latestWkid": 15831,
     "transformForward": true,
     "wkid": 15831,
     "name": "KGD2002_To_WGS_1984_1"
    }
   ]
  },
  {
   "geoTransforms": [
    {
     "latestWkid": 15831,
     "transformForward": false,
     "wkid": 15831,
     "name": "KGD2002_To_WGS_1984_1"
    }
   ]
  },
  {
   "geoTransforms": [
    {
     "latestWkid": 15831,
     "transformForward": true,
     "wkid": 15831,
     "name": "KGD2002_To_WGS_1984_1"
    }
   ]
  },
  {
   "geoTransforms": [
    {
     "latestWkid": 108280,
     "transformForward": true,
     "wkid": 108280,
     "name": "ITRF_2000_To_WGS_1984"
    },
    {
     "latestWkid": 15831,
     "transformForward": false,
     "wkid": 15831,
     "name": "KGD2002_To_WGS_1984_1"
    }
   ]
  },
  {
   "geoTransforms": [
    {
     "latestWkid": 15831,
     "transformForward": true,
     "wkid": 15831,
     "name": "KGD2002_To_WGS_1984_1"
    },
    {
     "latestWkid": 108280,
     "transformForward": false,
     "wkid": 108280,
     "name": "ITRF_2000_To_WGS_1984"
    }
   ]
  }
 ],
 "minLOD": 6,
 "initialExtent": {
  "ymin": 1951811.34354677494,
  "xmin": 929146.574558528722,
  "ymax": 1971985.0032093164,
  "xmax": 950292.458783120266,
  "spatialReference": {
   "falseM": -100000,
   "xyTolerance": 0.001,
   "mUnits": 10000,
   "zUnits": 10000,
   "latestWkid": 5179,
   "zTolerance": 0.001,
   "wkid": 102080,
   "xyUnits": 10000,
   "mTolerance": 0.001,
   "falseX": -4620900,
   "falseY": -12203900,
   "falseZ": -100000
  }
 },
 "serviceDescription": "",
 "copyrightText": "",
 "supportsTimeRelation": true
}
