{
 "extent": {
  "ymin": 56000,
  "xmin": -13000,
  "ymax": 685000,
  "xmax": 640000,
  "spatialReference": {
   "latestWkid": 5186,
   "wkid": 102082
  }
 },
 "blockWidth": 128,
 "mosaicOperator": "First",
 "serviceSourceType": "esriImageServiceSourceTypeDataset",
 "hasMultidimensions": false,
 "maxImageWidth": 150000,
 "meanValues": [
  2.0840136981355699
 ],
 "hasColormap": false,
 "compressionType": "LZ77",
 "defaultCompressionQuality": 75,
 "maxValues": [
  5
 ],
 "hasHistograms": true,
 "datasetFormat": "FGDBR",
 "maxImageHeight": 150000,
 "sortField": "",
 "bandNames": [
  "Band_1"
 ],
 "spatialReference": {
  "latestWkid": 5186,
  "wkid": 102082
 },
 "fullExtent": {
  "ymin": 56000,
  "xmin": -13000,
  "ymax": 685000,
  "xmax": 640000,
  "spatialReference": {
   "latestWkid": 5186,
   "wkid": 102082
  }
 },
 "bandCount": 1,
 "rasterFunctionInfos": [
  {
   "help": "",
   "name": "None",
   "description": ""
  }
 ],
 "supportsStatistics": false,
 "sortableFields": "",
 "minValues": [
  1
 ],
 "allowRasterFunction": true,
 "allowComputeTiePoints": false,
 "serviceDataType": "esriImageServiceDataTypeGeneric",
 "supportsAdvancedQueries": false,
 "currentVersion": 12,
 "sortValue": null,
 "objectIdField": "",
 "blockHeight": 128,
 "initialExtent": {
  "ymin": 56000,
  "xmin": -13000,
  "ymax": 685000,
  "xmax": 640000,
  "spatialReference": {
   "latestWkid": 5186,
   "wkid": 102082
  }
 },
 "pixelSizeX": 5,
 "pixelSizeY": 5,
 "defaultMosaicMethod": "Center",
 "name": "KR_ECVAM",
 "allowedMosaicMethods": "",
 "fields": [],
 "allowAnalysis": true,
 "hasRasterAttributeTable": true,
 "useStandardizedQueries": false,
 "description": "",
 "pixelType": "S16",
 "meanPixelSize": 5,
 "exportTilesAllowed": false,
 "editFieldsInfo": null,
 "rasterTypeInfos": [
  {
   "help": "",
   "name": "Raster Dataset",
   "description": "Supports all ArcGIS Raster Datasets"
  }
 ],
 "defaultResamplingMethod": "Nearest",
 "itemAccess": false,
 "minScale": 0,
 "serviceProperties": "Center<\/MosaicMethod>First<\/MosaicOperator>true<\/SortAscending><\/LockImageID><\/TileOrderField>0<\/TileOrderBase>0.000000<\/AvgImageSpacingX>0.000000<\/AvgImageSpacingY>0.0<\/ViewPointX>0.0<\/ViewPointY>0.0<\/ViewPointDefShiftX>0.0<\/ViewPointDefShiftY>None<\/CompressionMethod>75<\/CompressionQuality>0.010000<\/CompressionTolerance>Nearest<\/SamplingMethod><\/ImageServiceProperties><\/ImageServer>",
 "advancedQueryCapabilities": {
  "supportsStatistics": false,
  "supportsSqlExpression": false,
  "supportsOrderBy": false,
  "useStandardizedQueries": false,
  "supportsPagination": false,
  "supportsDistinct": false
 },
 "serviceItemId": "5e9dc18ee0384cefa1409fbf41d30992",
 "capabilities": "Image,Metadata,Mensuration",
 "maxScale": 0,
 "stdvValues": [
  1.1674852799896267
 ],
 "allowedFields": "",
 "minPixelSize": 0,
 "sortAscending": true,
 "inspectionCapabilities": "",
 "maxPixelSize": 0,
 "uncompressedSize": 32858960000,
 "serviceDescription": "KR_ECVAM",
 "allowCopy": true,
 "copyrightText": "",
 "mensurationCapabilities": "Basic",
 "ownershipBasedAccessControlForRasters": null
}
