{ "extent": { "ymin": -41959.380932135857, "xmin": -7279.2162346516125, "ymax": 570000.61906786414, "xmax": 632770.78376534837, "spatialReference": { "latestWkid": 5181, "wkid": 5181 } }, "blockWidth": 128, "mosaicOperator": "First", "serviceSourceType": "esriImageServiceSourceTypeDataset", "hasMultidimensions": false, "maxImageWidth": 100000, "meanValues": [3.0499808711286498], "hasColormap": true, "compressionType": "LZ77", "defaultCompressionQuality": 75, "maxValues": [5], "hasHistograms": true, "datasetFormat": "FGDBR", "maxImageHeight": 100000, "sortField": "", "bandNames": ["Band_1"], "spatialReference": { "latestWkid": 5181, "wkid": 5181 }, "fullExtent": { "ymin": -41959.380932135857, "xmin": -7279.2162346516125, "ymax": 570000.61906786414, "xmax": 632770.78376534837, "spatialReference": { "latestWkid": 5181, "wkid": 5181 } }, "bandCount": 1, "rasterFunctionInfos": [{ "help": "", "name": "None", "description": "" }], "supportsStatistics": false, "sortableFields": "", "minValues": [1], "allowRasterFunction": true, "allowComputeTiePoints": false, "serviceDataType": "esriImageServiceDataTypeThematic", "supportsAdvancedQueries": false, "currentVersion": 12, "sortValue": null, "objectIdField": "", "blockHeight": 128, "initialExtent": { "ymin": -41959.380932135857, "xmin": -7279.2162346516125, "ymax": 570000.61906786414, "xmax": 632770.78376534837, "spatialReference": { "latestWkid": 5181, "wkid": 5181 } }, "pixelSizeX": 10, "pixelSizeY": 10, "defaultMosaicMethod": "Center", "name": "LandslideHazard", "allowedMosaicMethods": "", "fields": [], "allowAnalysis": true, "hasRasterAttributeTable": true, "useStandardizedQueries": false, "description": "
- 서비스 업데이트 / Updated: 2025.05<\/font><\/p> - 서비스 업데이트 / Updated: 2025.05<\/font><\/p>
<\/font><\/span><\/div>
<\/font><\/span><\/div>
- 데이터 기준일 / Data Reference Date: 2025.05<\/span><\/font>
<\/span><\/font><\/div>
<\/div>- 제작과정 모식도<\/span><\/div>
<\/div><\/div>",
"pixelType": "S32",
"meanPixelSize": 10,
"exportTilesAllowed": false,
"editFieldsInfo": null,
"rasterTypeInfos": [{
"help": "",
"name": "Raster Dataset",
"description": "Supports all ArcGIS Raster Datasets"
}],
"defaultResamplingMethod": "Bilinear",
"itemAccess": false,
"minScale": 0,
"serviceProperties": "
<\/font><\/span><\/div>
<\/font><\/span><\/div>
- 데이터 기준일 / Data Reference Date: 2025.05<\/span><\/font>
<\/span><\/font><\/div>
<\/div>- 제작과정 모식도<\/span><\/div>
<\/div><\/div>",
"allowCopy": true,
"copyrightText": "https://map.forest.go.kr/forest/",
"mensurationCapabilities": "Basic",
"ownershipBasedAccessControlForRasters": null
}