{ "extent": { "ymin": -28459.392400000244, "xmin": 123817.4550999999, "ymax": 551475.60759999976, "xmax": 537257.4550999999, "spatialReference": { "latestWkid": 5181, "wkid": 5181 } }, "blockWidth": 128, "mosaicOperator": "First", "serviceSourceType": "esriImageServiceSourceTypeDataset", "hasMultidimensions": false, "maxImageWidth": 15000, "meanValues": [2.7471483325356925], "hasColormap": false, "compressionType": "LZ77", "defaultCompressionQuality": 75, "maxValues": [5], "hasHistograms": true, "datasetFormat": "FGDBR", "maxImageHeight": 4100, "sortField": "", "bandNames": ["Band_1"], "spatialReference": { "latestWkid": 5181, "wkid": 5181 }, "fullExtent": { "ymin": -28459.392400000244, "xmin": 123817.4550999999, "ymax": 551475.60759999976, "xmax": 537257.4550999999, "spatialReference": { "latestWkid": 5181, "wkid": 5181 } }, "bandCount": 1, "rasterFunctionInfos": [{ "help": "", "name": "None", "description": "" }], "supportsStatistics": false, "sortableFields": "", "minValues": [1], "allowRasterFunction": true, "allowComputeTiePoints": false, "serviceDataType": "esriImageServiceDataTypeThematic", "supportsAdvancedQueries": false, "currentVersion": 12, "sortValue": null, "objectIdField": "", "blockHeight": 128, "initialExtent": { "ymin": -28459.392400000244, "xmin": 123817.4550999999, "ymax": 551475.60759999976, "xmax": 537257.4550999999, "spatialReference": { "latestWkid": 5181, "wkid": 5181 } }, "pixelSizeX": 5, "pixelSizeY": 5, "defaultMosaicMethod": "Center", "name": "LocalRiver_Flood_50year", "allowedMosaicMethods": "", "fields": [], "allowAnalysis": true, "hasRasterAttributeTable": true, "useStandardizedQueries": false, "description": "
- 서비스 업데이트 / Updated: 2026.03<\/font><\/span><\/p> - 데이터 기준일 / Data Reference Date: 2025.02<\/font><\/span><\/p> - 서비스 업데이트 / Updated: 2025.05<\/font><\/p>
<\/div>
<\/div>
<\/font><\/span><\/div>
<\/font><\/span><\/div>