{ "extent": { "ymin": 122284.53150000051, "xmin": 149862.18230000045, "ymax": 513494.53150000051, "xmax": 416637.18230000045, "spatialReference": { "latestWkid": 5181, "wkid": 5181 } }, "blockWidth": 128, "mosaicOperator": "First", "serviceSourceType": "esriImageServiceSourceTypeDataset", "hasMultidimensions": false, "maxImageWidth": 15000, "meanValues": [3.6195258791171518], "hasColormap": false, "compressionType": "LZ77", "defaultCompressionQuality": 75, "maxValues": [5], "hasHistograms": true, "datasetFormat": "FGDBR", "maxImageHeight": 4100, "sortField": "", "bandNames": ["Band_1"], "spatialReference": { "latestWkid": 5181, "wkid": 5181 }, "fullExtent": { "ymin": 122284.53150000051, "xmin": 149862.18230000045, "ymax": 513494.53150000051, "xmax": 416637.18230000045, "spatialReference": { "latestWkid": 5181, "wkid": 5181 } }, "bandCount": 1, "rasterFunctionInfos": [{ "help": "", "name": "None", "description": "" }], "supportsStatistics": false, "sortableFields": "", "minValues": [1], "allowRasterFunction": true, "allowComputeTiePoints": false, "serviceDataType": "esriImageServiceDataTypeThematic", "supportsAdvancedQueries": false, "currentVersion": 12, "sortValue": null, "objectIdField": "", "blockHeight": 128, "initialExtent": { "ymin": 122284.53150000051, "xmin": 149862.18230000045, "ymax": 513494.53150000051, "xmax": 416637.18230000045, "spatialReference": { "latestWkid": 5181, "wkid": 5181 } }, "pixelSizeX": 5, "pixelSizeY": 5, "defaultMosaicMethod": "Center", "name": "NationalRiver_Flood_100year", "allowedMosaicMethods": "", "fields": [], "allowAnalysis": true, "hasRasterAttributeTable": true, "useStandardizedQueries": false, "description": "
- 서비스 업데이트 / Updated: 2026.03<\/span><\/font><\/span><\/p> - 데이터 기준일 / Data Reference Date: 2025.02<\/font><\/span><\/p> - 서비스 업데이트 / Updated: 2025.05<\/font><\/p>
<\/div>
<\/div>
<\/font><\/span><\/div>
<\/font><\/span><\/div>