{ "extent": { "ymin": 1458600, "xmin": 746100, "ymax": 2068500, "xmax": 1388000, "spatialReference": { "latestWkid": 5179, "wkid": 102080 } }, "blockWidth": 128, "mosaicOperator": "First", "serviceSourceType": "esriImageServiceSourceTypeDataset", "hasMultidimensions": false, "maxImageWidth": 15000, "meanValues": [48.99597654966864], "hasColormap": false, "compressionType": "LZ77", "defaultCompressionQuality": 75, "maxValues": [6498], "hasHistograms": true, "datasetFormat": "FGDBR", "maxImageHeight": 15000, "sortField": "", "bandNames": ["Band_1"], "spatialReference": { "latestWkid": 5179, "wkid": 102080 }, "fullExtent": { "ymin": 1458600, "xmin": 746100, "ymax": 2068500, "xmax": 1388000, "spatialReference": { "latestWkid": 5179, "wkid": 102080 } }, "bandCount": 1, "rasterFunctionInfos": [{ "help": "", "name": "None", "description": "" }], "supportsStatistics": false, "sortableFields": "", "minValues": [0], "allowRasterFunction": true, "allowComputeTiePoints": false, "serviceDataType": "esriImageServiceDataTypeGeneric", "supportsAdvancedQueries": false, "currentVersion": 12, "sortValue": null, "objectIdField": "", "blockHeight": 128, "initialExtent": { "ymin": 1458600, "xmin": 746100, "ymax": 2068500, "xmax": 1388000, "spatialReference": { "latestWkid": 5179, "wkid": 102080 } }, "pixelSizeX": 100, "pixelSizeY": 100, "defaultMosaicMethod": "Center", "name": "POP_2022", "allowedMosaicMethods": "", "fields": [], "allowAnalysis": true, "hasRasterAttributeTable": true, "useStandardizedQueries": false, "description": "
- 원본 데이터 출처 / Raw Data Source: <\/span>SGIS 통계지리정보서비스 격자통계(종사자)<\/font>
- 데이터 기준일 / Data Reference Date: 2024.11<\/span>
- 좌표 체계 / Spatial Reference: <\/font>KGD2002 Unified Coordinate System<\/font> (5179)<\/font><\/div><\/div>
- 전국사업체조사 통계자료를 활용하여 통계청에서 생산하는 100m 격자 단위 종사자 수<\/font><\/div>
- txt 파일로 제공되는 격자 단위 연도별 총 종사자 정보를 100m 격자 공간정보에 통합함<\/span><\/div>", "pixelType": "U16", "meanPixelSize": 100, "exportTilesAllowed": false, "editFieldsInfo": null, "rasterTypeInfos": [{ "help": "", "name": "Raster Dataset", "description": "Supports all ArcGIS Raster Datasets" }], "defaultResamplingMethod": "Nearest", "itemAccess": false, "minScale": 0, "serviceProperties": "Center<\/MosaicMethod>First<\/MosaicOperator>true<\/SortAscending><\/LockImageID><\/TileOrderField>0<\/TileOrderBase>0.000000<\/AvgImageSpacingX>0.000000<\/AvgImageSpacingY>0.0<\/ViewPointX>0.0<\/ViewPointY>0.0<\/ViewPointDefShiftX>0.0<\/ViewPointDefShiftY>None<\/CompressionMethod>75<\/CompressionQuality>0.010000<\/CompressionTolerance>Nearest<\/SamplingMethod><\/ImageServiceProperties><\/ImageServer>", "advancedQueryCapabilities": { "supportsStatistics": false, "supportsSqlExpression": false, "supportsOrderBy": false, "useStandardizedQueries": false, "supportsPagination": false, "supportsDistinct": false }, "serviceItemId": "b6b46e3bb1cf4ab28864c60f60412915", "capabilities": "Mensuration,Image,Metadata", "maxScale": 0, "stdvValues": [129.03046273832246], "allowedFields": "", "minPixelSize": 0, "resampling": false, "sortAscending": true, "inspectionCapabilities": "", "maxPixelSize": 0, "uncompressedSize": 78298962, "serviceDescription": "
- 원본 데이터 출처 / Raw Data Source: <\/span>SGIS 통계지리정보서비스 격자통계(종사자)<\/font>
- 데이터 기준일 / Data Reference Date: 2024.11<\/span>
- 좌표 체계 / Spatial Reference: <\/font>KGD2002 Unified Coordinate System<\/font> (5179)<\/font><\/div><\/div>
- 전국사업체조사 통계자료를 활용하여 통계청에서 생산하는 100m 격자 단위 종사자 수<\/font><\/div>
- txt 파일로 제공되는 격자 단위 연도별 총 종사자 정보를 100m 격자 공간정보에 통합함<\/span><\/div>", "allowCopy": true, "copyrightText": "https://sgis.kostat.go.kr/view/pss/dataProvdIntrcn", "mensurationCapabilities": "Basic", "ownershipBasedAccessControlForRasters": null }