{
 "extent": {
  "ymin": 1778787.4627758851,
  "xmin": 922071.10261991143,
  "ymax": 1788956.8929386539,
  "xmax": 932240.53278268024,
  "spatialReference": {
   "latestWkid": 5179,
   "wkid": 102080
  }
 },
 "blockWidth": 256,
 "mosaicOperator": "First",
 "serviceSourceType": "esriImageServiceSourceTypeDataset",
 "hasMultidimensions": true,
 "maxImageWidth": 15000,
 "meanValues": [
  0.059185011559022206
 ],
 "hasColormap": false,
 "compressionType": "LERC2D",
 "defaultCompressionQuality": 75,
 "maxValues": [
  5.1971940994262695
 ],
 "hasHistograms": true,
 "datasetFormat": "Cache/LERC2D",
 "maxImageHeight": 15000,
 "sortField": "",
 "bandNames": [
  "Water Depth"
 ],
 "spatialReference": {
  "latestWkid": 5179,
  "wkid": 102080
 },
 "fullExtent": {
  "ymin": 1778787.4627758851,
  "xmin": 922071.10261991143,
  "ymax": 1788956.8929386539,
  "xmax": 932240.53278268024,
  "spatialReference": {
   "latestWkid": 5179,
   "wkid": 102080
  }
 },
 "bandCount": 1,
 "rasterFunctionInfos": [
  {
   "help": "",
   "name": "None",
   "description": ""
  }
 ],
 "supportsStatistics": false,
 "sortableFields": "",
 "minValues": [
  0
 ],
 "allowRasterFunction": true,
 "allowComputeTiePoints": false,
 "serviceDataType": "esriImageServiceDataTypeGeneric",
 "supportsAdvancedQueries": false,
 "currentVersion": 12,
 "sortValue": null,
 "timeInfo": {
  "startTimeField": "StdTime",
  "endTimeField": "StdTime",
  "defaultTimeIntervalUnits": "esriTimeUnitsMinutes",
  "timeExtent": [
   1758539099998,
   1758542400000
  ],
  "timeReference": null,
  "defaultTimeInterval": 5
 },
 "objectIdField": "",
 "blockHeight": 256,
 "initialExtent": {
  "ymin": 1778787.4627758851,
  "xmin": 922071.10261991143,
  "ymax": 1788956.8929386539,
  "xmax": 932240.53278268024,
  "spatialReference": {
   "latestWkid": 5179,
   "wkid": 102080
  }
 },
 "pixelSizeX": 2.4827710358322292,
 "pixelSizeY": 2.4827710358322292,
 "defaultMosaicMethod": "Center",
 "name": "Seocheon_WaterDepth_crf",
 "allowedMosaicMethods": "",
 "fields": [],
 "defaultVariable": "",
 "bsq": false,
 "allowAnalysis": true,
 "hasRasterAttributeTable": false,
 "useStandardizedQueries": false,
 "description": "",
 "pixelType": "F32",
 "meanPixelSize": 2.4827710358322292,
 "exportTilesAllowed": false,
 "editFieldsInfo": null,
 "rasterTypeInfos": [
  {
   "help": "",
   "name": "Raster Dataset",
   "description": "Supports all ArcGIS Raster Datasets"
  }
 ],
 "defaultResamplingMethod": "Bilinear",
 "itemAccess": false,
 "minScale": 0,
 "serviceProperties": "Center<\/MosaicMethod>First<\/MosaicOperator>true<\/SortAscending><\/LockImageID><\/TileOrderField>0<\/TileOrderBase>0.000000<\/AvgImageSpacingX>0.000000<\/AvgImageSpacingY>0.0<\/ViewPointX>0.0<\/ViewPointY>0.0<\/ViewPointDefShiftX>0.0<\/ViewPointDefShiftY>None<\/CompressionMethod>75<\/CompressionQuality>0.010000<\/CompressionTolerance>Bilinear<\/SamplingMethod><\/ImageServiceProperties><\/ImageServer>",
 "advancedQueryCapabilities": {
  "supportsStatistics": false,
  "supportsSqlExpression": false,
  "supportsOrderBy": false,
  "useStandardizedQueries": false,
  "supportsPagination": false,
  "supportsDistinct": false
 },
 "serviceItemId": "6ac811fefc9844fbb5c0944f6c1b5558",
 "capabilities": "Image,Metadata,Mensuration",
 "maxScale": 0,
 "stdvValues": [
  0.14649005143479515
 ],
 "allowedFields": "",
 "minPixelSize": 0,
 "noDataValues": [
  -8192
 ],
 "sortAscending": true,
 "inspectionCapabilities": "",
 "maxPixelSize": 0,
 "noDataValue": -8192,
 "uncompressedSize": 67108864,
 "serviceDescription": "Seocheon_WaterDepth_crf",
 "allowCopy": true,
 "copyrightText": "",
 "mensurationCapabilities": "Basic",
 "ownershipBasedAccessControlForRasters": null
}
