{
 "extent": {
  "ymin": 1857875.334955418,
  "xmin": 897801.19402235933,
  "ymax": 1874974.6722864853,
  "xmax": 914900.53135342663,
  "spatialReference": {
   "latestWkid": 5179,
   "wkid": 102080
  }
 },
 "blockWidth": 256,
 "mosaicOperator": "First",
 "serviceSourceType": "esriImageServiceSourceTypeDataset",
 "hasMultidimensions": true,
 "maxImageWidth": 15000,
 "meanValues": [],
 "hasColormap": false,
 "compressionType": "LERC2D",
 "defaultCompressionQuality": 75,
 "maxValues": [],
 "hasHistograms": false,
 "datasetFormat": "Cache/LERC2D",
 "maxImageHeight": 15000,
 "sortField": "",
 "bandNames": [
  "Vector_U",
  "Vector_V"
 ],
 "spatialReference": {
  "latestWkid": 5179,
  "wkid": 102080
 },
 "fullExtent": {
  "ymin": 1857875.334955418,
  "xmin": 897801.19402235933,
  "ymax": 1874974.6722864853,
  "xmax": 914900.53135342663,
  "spatialReference": {
   "latestWkid": 5179,
   "wkid": 102080
  }
 },
 "bandCount": 2,
 "rasterFunctionInfos": [
  {
   "help": "",
   "name": "None",
   "description": ""
  }
 ],
 "supportsStatistics": false,
 "sortableFields": "",
 "minValues": [],
 "allowRasterFunction": true,
 "allowComputeTiePoints": false,
 "serviceDataType": "esriImageServiceDataTypeGeneric",
 "supportsAdvancedQueries": false,
 "currentVersion": 12,
 "sortValue": null,
 "timeInfo": {
  "startTimeField": "StdTime",
  "endTimeField": "StdTime",
  "defaultTimeIntervalUnits": "esriTimeUnitsMinutes",
  "timeExtent": [
   1752696899999,
   1752706800000
  ],
  "timeReference": null,
  "defaultTimeInterval": 15
 },
 "objectIdField": "",
 "blockHeight": 256,
 "initialExtent": {
  "ymin": 1857875.334955418,
  "xmin": 897801.19402235933,
  "ymax": 1874974.6722864853,
  "xmax": 914900.53135342663,
  "spatialReference": {
   "latestWkid": 5179,
   "wkid": 102080
  }
 },
 "pixelSizeX": 4.1746429030926038,
 "pixelSizeY": 4.1746429030926038,
 "defaultMosaicMethod": "Center",
 "name": "Seosan_WaterVelocity_crf",
 "allowedMosaicMethods": "",
 "fields": [],
 "defaultVariable": "",
 "bsq": false,
 "allowAnalysis": true,
 "hasRasterAttributeTable": false,
 "useStandardizedQueries": false,
 "description": "",
 "pixelType": "F32",
 "meanPixelSize": 4.1746429030926038,
 "exportTilesAllowed": false,
 "editFieldsInfo": null,
 "rasterTypeInfos": [
  {
   "help": "",
   "name": "Raster Dataset",
   "description": "Supports all ArcGIS Raster Datasets"
  }
 ],
 "defaultResamplingMethod": "Nearest",
 "itemAccess": false,
 "minScale": 0,
 "serviceProperties": "Center<\/MosaicMethod>First<\/MosaicOperator>true<\/SortAscending><\/LockImageID><\/TileOrderField>0<\/TileOrderBase>0.000000<\/AvgImageSpacingX>0.000000<\/AvgImageSpacingY>0.0<\/ViewPointX>0.0<\/ViewPointY>0.0<\/ViewPointDefShiftX>0.0<\/ViewPointDefShiftY>None<\/CompressionMethod>75<\/CompressionQuality>0.010000<\/CompressionTolerance>Nearest<\/SamplingMethod><\/ImageServiceProperties><\/ImageServer>",
 "advancedQueryCapabilities": {
  "supportsStatistics": false,
  "supportsSqlExpression": false,
  "supportsOrderBy": false,
  "useStandardizedQueries": false,
  "supportsPagination": false,
  "supportsDistinct": false
 },
 "serviceItemId": "1bcca7403c4843178d1511a78cc1a844",
 "capabilities": "Image,Metadata,Mensuration",
 "maxScale": 0,
 "stdvValues": [],
 "allowedFields": "",
 "minPixelSize": 0,
 "noDataValues": [
  -8192,
  -8192
 ],
 "sortAscending": true,
 "inspectionCapabilities": "",
 "maxPixelSize": 0,
 "noDataValue": -8192,
 "uncompressedSize": 134217728,
 "serviceDescription": "Seosan_WaterVelocity_crf",
 "allowCopy": true,
 "copyrightText": "",
 "mensurationCapabilities": "Basic",
 "ownershipBasedAccessControlForRasters": null
}
