{ "extent": { "ymin": -29516.967800000682, "xmin": 121276.70799999963, "ymax": 551408.03219999932, "xmax": 422851.70799999963, "spatialReference": { "latestWkid": 5181, "wkid": 5181 } }, "blockWidth": 128, "mosaicOperator": "First", "serviceSourceType": "esriImageServiceSourceTypeDataset", "hasMultidimensions": false, "maxImageWidth": 15000, "meanValues": [4.0373895100423871], "hasColormap": false, "compressionType": "LZ77", "defaultCompressionQuality": 75, "maxValues": [5], "hasHistograms": true, "datasetFormat": "FGDBR", "maxImageHeight": 4100, "sortField": "", "bandNames": ["Band_1"], "spatialReference": { "latestWkid": 5181, "wkid": 5181 }, "fullExtent": { "ymin": -29516.967800000682, "xmin": 121276.70799999963, "ymax": 551408.03219999932, "xmax": 422851.70799999963, "spatialReference": { "latestWkid": 5181, "wkid": 5181 } }, "bandCount": 1, "rasterFunctionInfos": [{ "help": "", "name": "None", "description": "" }], "supportsStatistics": false, "sortableFields": "", "minValues": [1], "allowRasterFunction": true, "allowComputeTiePoints": false, "serviceDataType": "esriImageServiceDataTypeThematic", "supportsAdvancedQueries": false, "currentVersion": 12, "sortValue": null, "objectIdField": "", "blockHeight": 128, "initialExtent": { "ymin": -29516.967800000682, "xmin": 121276.70799999963, "ymax": 551408.03219999932, "xmax": 422851.70799999963, "spatialReference": { "latestWkid": 5181, "wkid": 5181 } }, "pixelSizeX": 5, "pixelSizeY": 5, "defaultMosaicMethod": "Center", "name": "Urban_Flood_30year", "allowedMosaicMethods": "", "fields": [], "allowAnalysis": true, "hasRasterAttributeTable": true, "useStandardizedQueries": false, "description": "
- 서비스 업데이트 / Updated: 2025.05<\/font><\/p> - 서비스 업데이트 / Updated: 2025.05<\/font><\/p>
<\/font><\/span><\/div>
<\/font><\/span><\/div>
<\/font><\/span><\/div>
<\/font><\/span><\/div>