View In:
ArcGIS JavaScript
ArcGIS Online Map Viewer
ArcGIS Earth
Service Description: Flood_Layer_1_WaterAbsoluteHeight_crf
Name: Flood_Layer_1_WaterAbsoluteHeight_crf
Description:
Single Fused Map Cache: false
Extent:
XMin: 1.4106419004744042E7
YMin: 4296421.896534345
XMax: 1.4114295488483122E7
YMax: 4304298.380273425
Spatial Reference: 102100
(3857)
Initial Extent:
XMin: 1.4106419004744042E7
YMin: 4296421.896534345
XMax: 1.4114295488483122E7
YMax: 4304298.380273425
Spatial Reference: 102100
(3857)
Full Extent:
XMin: 1.4106419004744042E7
YMin: 4296421.896534345
XMax: 1.4114295488483122E7
YMax: 4304298.380273425
Spatial Reference: 102100
(3857)
Time Info:
Start Time Field: StdTime
End Time Field: StdTime
Time Extent:
[2025/09/19 10:00:00 UTC, 2025/09/19 11:00:00 UTC]
Time Reference:
N/A
Pixel Size X: 1.9229696628613056
Pixel Size Y: 1.9229696628613056
Band Count: 1
Pixel Type: F32
RasterFunction Infos: {"rasterFunctionInfos": [{
"help": "",
"name": "None",
"description": ""
}]}
Mensuration Capabilities: Basic
Inspection Capabilities:
Has Histograms: true
Has Colormap: false
Has Multi Dimensions : true
Rendering Rule:
Min Scale: 0
Max Scale: 0
Copyright Text:
Service Data Type: esriImageServiceDataTypeGeneric
Min Values: 0
Max Values: 168.86685180664062
Mean Values: 14.396087468182584
Standard Deviation Values: 22.738215141260536
Object ID Field:
Fields:
None
Default Mosaic Method: Center
Allowed Mosaic Methods:
SortField:
SortValue: N/A
Mosaic Operator: First
Default Compression Quality: 75
Default Resampling Method: Bilinear
Max Record Count: null
Max Image Height: 4100
Max Image Width: 15000
Max Download Image Count: null
Max Mosaic Image Count: null
Allow Raster Function: true
Allow Copy: true
Allow Analysis: true
Allow Compute TiePoints: false
Supports Statistics: false
Supports Advanced Queries: false
Use StandardizedQueries: false
Raster Type Infos:
Name: Raster Dataset
Description: Supports all ArcGIS Raster Datasets
Help:
Has Raster Attribute Table: false
Edit Fields Info: N/A
Ownership Based AccessControl For Rasters: N/A
Child Resources:
Info
Histograms
Statistics
Key Properties
Legend
Raster Function Infos
Multidimensional Info
Slices
Supported Operations:
Export Image
Identify
Measure
Compute Histograms
Compute Statistics Histograms
Get Samples
Compute Class Statistics
Query Boundary
Compute Pixel Location
Compute Angles
Validate
Project