View In:
ArcGIS JavaScript
ArcGIS Online Map Viewer
ArcGIS Earth
Service Description: Goyang1_WaterDepth_crf
Name: Goyang1_WaterDepth_crf
Description:
Single Fused Map Cache: false
Extent:
XMin: 126.78626783595449
YMin: 37.559576355919546
XMax: 126.91210169228164
YMax: 37.685410212246694
Spatial Reference: 4326
(4326)
Initial Extent:
XMin: 126.78626783595449
YMin: 37.559576355919546
XMax: 126.91210169228164
YMax: 37.685410212246694
Spatial Reference: 4326
(4326)
Full Extent:
XMin: 126.78626783595449
YMin: 37.559576355919546
XMax: 126.91210169228164
YMax: 37.685410212246694
Spatial Reference: 4326
(4326)
Time Info:
Start Time Field: StdTime
End Time Field: StdTime
Time Extent:
[2025/08/13 03:09:59 UTC, 2025/08/13 05:00:00 UTC]
Time Reference:
N/A
Pixel Size X: 3.07211563298701E-5
Pixel Size Y: 3.07211563298701E-5
Band Count: 1
Pixel Type: F32
RasterFunction Infos: {"rasterFunctionInfos": [{
"help": "",
"name": "None",
"description": ""
}]}
Mensuration Capabilities: Basic
Inspection Capabilities:
Has Histograms: true
Has Colormap: false
Has Multi Dimensions : true
Rendering Rule:
Min Scale: 0
Max Scale: 0
Resampling: false
Copyright Text:
Service Data Type: esriImageServiceDataTypeGeneric
Min Values: 0
Max Values: 7.3097972869873047
Mean Values: 0.053114430539574084
Standard Deviation Values: 0.19811113508242739
Object ID Field:
Fields:
None
Default Mosaic Method: Center
Allowed Mosaic Methods:
SortField:
SortValue: N/A
Mosaic Operator: First
Default Compression Quality: 75
Default Resampling Method: Bilinear
Max Record Count: null
Max Image Height: 15000
Max Image Width: 15000
Max Download Image Count: null
Max Mosaic Image Count: null
Allow Raster Function: true
Allow Copy: true
Allow Analysis: true
Allow Compute TiePoints: false
Supports Statistics: false
Supports Advanced Queries: false
Use StandardizedQueries: false
Raster Type Infos:
Name: Raster Dataset
Description: Supports all ArcGIS Raster Datasets
Help:
Has Raster Attribute Table: false
Edit Fields Info: N/A
Ownership Based AccessControl For Rasters: N/A
Child Resources:
Info
Histograms
Statistics
Key Properties
Legend
Raster Function Infos
Multidimensional Info
Slices
Supported Operations:
Export Image
Identify
Measure
Compute Histograms
Compute Statistics Histograms
Get Samples
Compute Class Statistics
Query Boundary
Compute Pixel Location
Compute Angles
Validate
Project