View In:
ArcGIS JavaScript
ArcGIS Online Map Viewer
ArcGIS Earth
Service Description: Goyang2_WaterVelocity_crf
Name: Goyang2_WaterVelocity_crf
Description:
Single Fused Map Cache: false
Extent:
XMin: 126.69994631123042
YMin: 37.615972476248466
XMax: 126.82563985479014
YMax: 37.741666019808186
Spatial Reference: 4326
(4326)
Initial Extent:
XMin: 126.69994631123042
YMin: 37.615972476248466
XMax: 126.82563985479014
YMax: 37.741666019808186
Spatial Reference: 4326
(4326)
Full Extent:
XMin: 126.69994631123042
YMin: 37.615972476248466
XMax: 126.82563985479014
YMax: 37.741666019808186
Spatial Reference: 4326
(4326)
Time Info:
Start Time Field: StdTime
End Time Field: StdTime
Time Extent:
[2025/08/13 03:09:59 UTC, 2025/08/13 05:00:00 UTC]
Time Reference:
N/A
Pixel Size X: 3.0686900283134755E-5
Pixel Size Y: 3.0686900283134755E-5
Band Count: 2
Pixel Type: F32
RasterFunction Infos: {"rasterFunctionInfos": [{
"help": "",
"name": "None",
"description": ""
}]}
Mensuration Capabilities: Basic
Inspection Capabilities:
Has Histograms: true
Has Colormap: false
Has Multi Dimensions : true
Rendering Rule:
Min Scale: 0
Max Scale: 0
Copyright Text:
Service Data Type: esriImageServiceDataTypeVector-UV
Min Values: 0, 0
Max Values: 21.536327362060547, 14.932147979736328
Mean Values: 0.0072629491789246055, 0.012677079884789912
Standard Deviation Values: 0.092892619340591731, 0.11196015302763702
Object ID Field:
Fields:
None
Default Mosaic Method: Center
Allowed Mosaic Methods:
SortField:
SortValue: N/A
Mosaic Operator: First
Default Compression Quality: 75
Default Resampling Method: Bilinear
Max Record Count: null
Max Image Height: 15000
Max Image Width: 15000
Max Download Image Count: null
Max Mosaic Image Count: null
Allow Raster Function: true
Allow Copy: true
Allow Analysis: true
Allow Compute TiePoints: false
Supports Statistics: false
Supports Advanced Queries: false
Use StandardizedQueries: false
Raster Type Infos:
Name: Raster Dataset
Description: Supports all ArcGIS Raster Datasets
Help:
Has Raster Attribute Table: false
Edit Fields Info: N/A
Ownership Based AccessControl For Rasters: N/A
Child Resources:
Info
Histograms
Statistics
Key Properties
Legend
Raster Function Infos
Multidimensional Info
Slices
Supported Operations:
Export Image
Identify
Measure
Compute Histograms
Compute Statistics Histograms
Get Samples
Compute Class Statistics
Query Boundary
Compute Pixel Location
Compute Angles
Validate
Project