View In:
ArcGIS JavaScript
ArcGIS Online Map Viewer
ArcGIS Earth
Service Description: Gunsan_WaterVelocity_crf
Name: Gunsan_WaterVelocity_crf
Description:
Single Fused Map Cache: false
Extent:
XMin: 919282.4577199412
YMin: 1766548.7544896961
XMax: 934561.3793565787
YMax: 1781827.6761263337
Spatial Reference: 102080
(5179)
Initial Extent:
XMin: 919282.4577199412
YMin: 1766548.7544896961
XMax: 934561.3793565787
YMax: 1781827.6761263337
Spatial Reference: 102080
(5179)
Full Extent:
XMin: 919282.4577199412
YMin: 1766548.7544896961
XMax: 934561.3793565787
YMax: 1781827.6761263337
Spatial Reference: 102080
(5179)
Time Info:
Start Time Field: StdTime
End Time Field: StdTime
Time Extent:
[2025/09/06 16:19:59 UTC, 2025/09/06 20:00:00 UTC]
Time Reference:
N/A
Pixel Size X: 3.7302054776947102
Pixel Size Y: 3.7302054776947102
Band Count: 2
Pixel Type: F32
RasterFunction Infos: {"rasterFunctionInfos": [{
"help": "",
"name": "None",
"description": ""
}]}
Mensuration Capabilities: Basic
Inspection Capabilities:
Has Histograms: true
Has Colormap: false
Has Multi Dimensions : true
Rendering Rule:
Min Scale: 0
Max Scale: 0
Copyright Text:
Service Data Type: esriImageServiceDataTypeVector-UV
Min Values: 0, 0
Max Values: 33.793701171875, 9.5661611557006836
Mean Values: 0.016920285747012726, 0.012760651901107549
Standard Deviation Values: 0.14924855100621895, 0.079519990467766227
Object ID Field:
Fields:
None
Default Mosaic Method: Center
Allowed Mosaic Methods:
SortField:
SortValue: N/A
Mosaic Operator: First
Default Compression Quality: 75
Default Resampling Method: Nearest
Max Record Count: null
Max Image Height: 15000
Max Image Width: 15000
Max Download Image Count: null
Max Mosaic Image Count: null
Allow Raster Function: true
Allow Copy: true
Allow Analysis: true
Allow Compute TiePoints: false
Supports Statistics: false
Supports Advanced Queries: false
Use StandardizedQueries: false
Raster Type Infos:
Name: Raster Dataset
Description: Supports all ArcGIS Raster Datasets
Help:
Has Raster Attribute Table: false
Edit Fields Info: N/A
Ownership Based AccessControl For Rasters: N/A
Child Resources:
Info
Histograms
Statistics
Key Properties
Legend
Raster Function Infos
Multidimensional Info
Slices
Supported Operations:
Export Image
Identify
Measure
Compute Histograms
Compute Statistics Histograms
Get Samples
Compute Class Statistics
Query Boundary
Compute Pixel Location
Compute Angles
Validate
Project