View In:
ArcGIS JavaScript
ArcGIS Online Map Viewer
ArcGIS Earth
Service Description: KR_annual_temp_2003
Name: KR_annual_temp_2003
Description:
Single Fused Map Cache: false
Extent:
XMin: 124.4768
YMin: 32.9985
XMax: 131.152
YMax: 38.7225
Spatial Reference: 4326
(4326)
Initial Extent:
XMin: 124.4768
YMin: 32.9985
XMax: 131.152
YMax: 38.7225
Spatial Reference: 4326
(4326)
Full Extent:
XMin: 124.4768
YMin: 32.9985
XMax: 131.152
YMax: 38.7225
Spatial Reference: 4326
(4326)
Pixel Size X: 0.005599999999999991
Pixel Size Y: 0.004499999999999997
Band Count: 1
Pixel Type: F32
RasterFunction Infos: {"rasterFunctionInfos": [{
"help": "",
"name": "None",
"description": ""
}]}
Mensuration Capabilities: Basic
Inspection Capabilities:
Has Histograms: false
Has Colormap: false
Has Multi Dimensions : false
Rendering Rule:
Min Scale: 0
Max Scale: 0
Copyright Text:
Service Data Type: esriImageServiceDataTypeGeneric
Min Values: -2.5571429729461999
Max Values: 21.588888168335
Mean Values: -9999
Standard Deviation Values: -9999
Object ID Field:
Fields:
None
Default Mosaic Method: Center
Allowed Mosaic Methods:
SortField:
SortValue: N/A
Mosaic Operator: First
Default Compression Quality: 75
Default Resampling Method: Nearest
Max Record Count: null
Max Image Height: 4100
Max Image Width: 15000
Max Download Image Count: null
Max Mosaic Image Count: null
Allow Raster Function: true
Allow Copy: true
Allow Analysis: true
Allow Compute TiePoints: false
Supports Statistics: false
Supports Advanced Queries: false
Use StandardizedQueries: false
Raster Type Infos:
Name: Raster Dataset
Description: Supports all ArcGIS Raster Datasets
Help:
Has Raster Attribute Table: false
Edit Fields Info: N/A
Ownership Based AccessControl For Rasters: N/A
Child Resources:
Info
Statistics
Key Properties
Legend
Raster Function Infos
Supported Operations:
Export Image
Identify
Measure
Compute Histograms
Compute Statistics Histograms
Get Samples
Compute Class Statistics
Query Boundary
Compute Pixel Location
Compute Angles
Validate
Project