View In:
ArcGIS JavaScript
ArcGIS Online Map Viewer
ArcGIS Earth
Service Description: - 원본 데이터 출처 / Raw Data Source: SGIS 통계지리정보서비스 격자통계(종사자)- 데이터 기준일 / Data Reference Date: 2024.11- 좌표 체계 / Spatial Reference: KGD2002 Unified Coordinate System (5179)
- 전국사업체조사 통계자료를 활용하여 통계청에서 생산하는 100m 격자 단위 종사자 수
- txt 파일로 제공되는 격자 단위 연도별 총 종사자 정보를 100m 격자 공간정보에 통합함
Name: POP_2017
Description: - 원본 데이터 출처 / Raw Data Source: SGIS 통계지리정보서비스 격자통계(종사자)- 데이터 기준일 / Data Reference Date: 2024.11- 좌표 체계 / Spatial Reference: KGD2002 Unified Coordinate System (5179)
- 전국사업체조사 통계자료를 활용하여 통계청에서 생산하는 100m 격자 단위 종사자 수
- txt 파일로 제공되는 격자 단위 연도별 총 종사자 정보를 100m 격자 공간정보에 통합함
Single Fused Map Cache: false
Extent:
XMin: 746100.0
YMin: 1458600.0
XMax: 1388000.0
YMax: 2068500.0
Spatial Reference: 102080
(5179)
Initial Extent:
XMin: 746100.0
YMin: 1458600.0
XMax: 1388000.0
YMax: 2068500.0
Spatial Reference: 102080
(5179)
Full Extent:
XMin: 746100.0
YMin: 1458600.0
XMax: 1388000.0
YMax: 2068500.0
Spatial Reference: 102080
(5179)
Pixel Size X: 100.0
Pixel Size Y: 100.0
Band Count: 1
Pixel Type: U16
RasterFunction Infos: {"rasterFunctionInfos": [{
"help": "",
"name": "None",
"description": ""
}]}
Mensuration Capabilities: Basic
Inspection Capabilities:
Has Histograms: true
Has Colormap: false
Has Multi Dimensions : false
Rendering Rule:
Min Scale: 0
Max Scale: 0
Resampling: false
Copyright Text: https://sgis.kostat.go.kr/view/pss/dataProvdIntrcn
Service Data Type: esriImageServiceDataTypeGeneric
Min Values: 0
Max Values: 7137
Mean Values: 51.11551997098816
Standard Deviation Values: 135.7237153334969
Object ID Field:
Fields:
None
Default Mosaic Method: Center
Allowed Mosaic Methods:
SortField:
SortValue: N/A
Mosaic Operator: First
Default Compression Quality: 75
Default Resampling Method: Nearest
Max Record Count: null
Max Image Height: 15000
Max Image Width: 15000
Max Download Image Count: null
Max Mosaic Image Count: null
Allow Raster Function: true
Allow Copy: true
Allow Analysis: true
Allow Compute TiePoints: false
Supports Statistics: false
Supports Advanced Queries: false
Use StandardizedQueries: false
Raster Type Infos:
Name: Raster Dataset
Description: Supports all ArcGIS Raster Datasets
Help:
Has Raster Attribute Table: true
Edit Fields Info: N/A
Ownership Based AccessControl For Rasters: N/A
Child Resources:
Info
Raster Attribute Table
Histograms
Statistics
Key Properties
Legend
Raster Function Infos
Supported Operations:
Export Image
Identify
Measure
Compute Histograms
Compute Statistics Histograms
Get Samples
Compute Class Statistics
Query Boundary
Compute Pixel Location
Compute Angles
Validate
Project