View In:
ArcGIS JavaScript
ArcGIS Online Map Viewer
ArcGIS Earth
Service Description: Goyang3_WaterVelocity_crf
Name: Goyang3_WaterVelocity_crf
Description:
Single Fused Map Cache: false
Extent:
XMin: 126.80650488985727
YMin: 37.631403172645
XMax: 126.93261984179107
YMax: 37.7575181245788
Spatial Reference: 4326
(4326)
Initial Extent:
XMin: 126.80650488985727
YMin: 37.631403172645
XMax: 126.93261984179107
YMax: 37.7575181245788
Spatial Reference: 4326
(4326)
Full Extent:
XMin: 126.80650488985727
YMin: 37.631403172645
XMax: 126.93261984179107
YMax: 37.7575181245788
Spatial Reference: 4326
(4326)
Time Info:
Start Time Field: StdTime
End Time Field: StdTime
Time Extent:
[2025/08/13 03:09:59 UTC, 2025/08/13 05:00:00 UTC]
Time Reference:
N/A
Pixel Size X: 3.0789783186963016E-5
Pixel Size Y: 3.0789783186963016E-5
Band Count: 2
Pixel Type: F32
RasterFunction Infos: {"rasterFunctionInfos": [{
"help": "",
"name": "None",
"description": ""
}]}
Mensuration Capabilities: Basic
Inspection Capabilities:
Has Histograms: true
Has Colormap: false
Has Multi Dimensions : true
Rendering Rule:
Min Scale: 0
Max Scale: 0
Resampling: false
Copyright Text:
Service Data Type: esriImageServiceDataTypeVector-UV
Min Values: 0, 0
Max Values: 40.076099395751953, 34.0672607421875
Mean Values: 0.033859247766446367, 0.014824407494086827
Standard Deviation Values: 0.4853436742870208, 0.16310088552460214
Object ID Field:
Fields:
None
Default Mosaic Method: Center
Allowed Mosaic Methods:
SortField:
SortValue: N/A
Mosaic Operator: First
Default Compression Quality: 75
Default Resampling Method: Bilinear
Max Record Count: null
Max Image Height: 15000
Max Image Width: 15000
Max Download Image Count: null
Max Mosaic Image Count: null
Allow Raster Function: true
Allow Copy: true
Allow Analysis: true
Allow Compute TiePoints: false
Supports Statistics: false
Supports Advanced Queries: false
Use StandardizedQueries: false
Raster Type Infos:
Name: Raster Dataset
Description: Supports all ArcGIS Raster Datasets
Help:
Has Raster Attribute Table: false
Edit Fields Info: N/A
Ownership Based AccessControl For Rasters: N/A
Child Resources:
Info
Histograms
Statistics
Key Properties
Legend
Raster Function Infos
Multidimensional Info
Slices
Supported Operations:
Export Image
Identify
Measure
Compute Histograms
Compute Statistics Histograms
Get Samples
Compute Class Statistics
Query Boundary
Compute Pixel Location
Compute Angles
Validate
Project