View In:
ArcGIS JavaScript
ArcGIS Online Map Viewer
ArcGIS Earth
ArcGIS Pro
Service Description:
Map Name: Map
Legend
All Layers and Tables
Layers:
Description:
Service Item Id: d5a6593e51bc40aeaf33c1c805f1e924
Copyright Text:
Spatial Reference:
102080
(5179)
Single Fused Map Cache: true
Tile Info:
- Height: 256.0
- Width: 256.0
- DPI: 96.0
-
Levels of Detail: 24
-
Level ID: 0
[ Start Tile, End Tile ]
- Resolution: 78109.0933041901735
- Scale: 295215470.75599432
-
Level ID: 1
[ Start Tile, End Tile ]
- Resolution: 39054.5466520950868
- Scale: 147607735.37799716
-
Level ID: 2
[ Start Tile, End Tile ]
- Resolution: 19527.2733260475434
- Scale: 73803867.68899858
-
Level ID: 3
[ Start Tile, End Tile ]
- Resolution: 9763.63666302377169
- Scale: 36901933.84449929
-
Level ID: 4
[ Start Tile, End Tile ]
- Resolution: 4881.81833151188584
- Scale: 18450966.922249645
-
Level ID: 5
[ Start Tile, End Tile ]
- Resolution: 2440.90916575594292
- Scale: 9225483.4611248225
-
Level ID: 6
[ Start Tile, End Tile ]
- Resolution: 1220.45458287797146
- Scale: 4612741.73056241125
-
Level ID: 7
[ Start Tile, End Tile ]
- Resolution: 610.227291438985731
- Scale: 2306370.86528120562
-
Level ID: 8
[ Start Tile, End Tile ]
- Resolution: 305.113645719492865
- Scale: 1153185.43264060281
-
Level ID: 9
[ Start Tile, End Tile ]
- Resolution: 152.556822859746433
- Scale: 576592.716320301406
-
Level ID: 10
[ Start Tile, End Tile ]
- Resolution: 76.2784114298732163
- Scale: 288296.3581601507
-
Level ID: 11
[ Start Tile, End Tile ]
- Resolution: 38.1392057149366082
- Scale: 144148.179080075352
-
Level ID: 12
[ Start Tile, End Tile ]
- Resolution: 19.0696028574683041
- Scale: 72074.0895400376758
-
Level ID: 13
[ Start Tile, End Tile ]
- Resolution: 9.534801428734152
- Scale: 36037.0447700188379
-
Level ID: 14
[ Start Tile, End Tile ]
- Resolution: 4.767400714367076
- Scale: 18018.5223850094189
-
Level ID: 15
[ Start Tile, End Tile ]
- Resolution: 2.383700357183538
- Scale: 9009.26119250470947
-
Level ID: 16
[ Start Tile, End Tile ]
- Resolution: 1.191850178591769
- Scale: 4504.63059625235474
-
Level ID: 17
[ Start Tile, End Tile ]
- Resolution: 0.5959250892958845
- Scale: 2252.31529812617737
-
Level ID: 18
[ Start Tile, End Tile ]
- Resolution: 0.29796254464794225
- Scale: 1126.15764906308868
-
Level ID: 19
[ Start Tile, End Tile ]
- Resolution: 0.14898127232397113
- Scale: 563.078824531544342
-
Level ID: 20
[ Start Tile, End Tile ]
- Resolution: 0.074490636161985563
- Scale: 281.539412265772171
-
Level ID: 21
[ Start Tile, End Tile ]
- Resolution: 0.037245318080992781
- Scale: 140.769706132886085
-
Level ID: 22
[ Start Tile, End Tile ]
- Resolution: 0.018622659040496391
- Scale: 70.3848530664430427
-
Level ID: 23
[ Start Tile, End Tile ]
- Resolution: 0.0093113295202481954
- Scale: 35.1924265332215214
- Format: Mixed
- Compression Quality: 75.0
- Origin: X: -8997963.942936342
Y: 7792148.923100483
- Spatial Reference: 102080
(5179)
Storage Info:
- Storage Format: esriMapCacheStorageModeCompactV2
- Packet Size: 128
Initial Extent:
XMin: 929146.5745585287
YMin: 1951811.343546775
XMax: 950292.4587831203
YMax: 1971985.0032093164
Spatial Reference: 102080
(5179)
Full Extent:
XMin: 929392.119310243
YMin: 1951298.30227436
XMax: 950021.7554731239
YMax: 1973323.0652515986
Spatial Reference: 102080
(5179)
Units: esriMeters
Supported Image Format Types: PNG32,PNG24,PNG,JPG,DIB,TIFF,EMF,PS,PDF,GIF,SVG,SVGZ,BMP
Document Info:
Title: Map
Author:
Comments:
Subject:
Category:
Keywords:
AntialiasingMode: None
TextAntialiasingMode: Force
Supports Dynamic Layers: false
MaxRecordCount: 1000
MaxSelectionCount: 2000
MaxImageHeight: 4096
MaxImageWidth: 4096
Supported Query Formats: JSON, geoJSON, PBF
Supports Query Data Elements: true
Min Scale: 4612741.73056241125
Max Scale: 563.078824531544342
Min LOD: 6
Max LOD: 19
Supports Datum Transformation: true
Child Resources:
Info
Supported Operations:
QueryLegends
Return Updates