View In:
ArcGIS JavaScript
ArcGIS Online Map Viewer
ArcGIS Earth
Service Description: - Release Version: 2025.0
- 서비스 업데이트 / Updated: 2025.05
- 다음 업데이트 / Next Update: 2026.02
- 원본 데이터 출처 / Raw Data Source: 산림청 산림공간정보서비스 산사태위험지도
- 데이터 기준일 / Data Reference Date: 2025.05- 좌표 체계 / Spatial Reference: KGD2002 Central Belt (5181)
- 위험등급 정보 / 1~5등급, 1등급이 산사태 발생 위험도가 가장 높음
- 접경지역을 제외한 전국 단위 10m x 10m 해상도 Raster Imagery Layer
- 산림청(Korea Forest Service)에서 다양한 산사태 발생인자 중 영향이 큰 9개 인자를 선정하여 제작
(임상(숲모습), 경급(나무지름크기), 사면경사, 사면방위, 사면길이, 사면곡률, 모암, 토심, 지형습윤지수(TWI))
- 인위적 변화지를 보정인자로 적용하여 산사태 위험등급을 재조정
(도로, 건물, 송전탑, 임도, 절성토, 풍력발전단지, 태양광발전단지, 체육시설(골프장, 스키장), 산사태발생지, 산불피해지, 벌채지)
- 제작과정 모식도
Name: LandslideHazard
Description: - Release Version: 2025.0
- 서비스 업데이트 / Updated: 2025.05
- 다음 업데이트 / Next Update: 2026.02
- 원본 데이터 출처 / Raw Data Source: 산림청 산림공간정보서비스 산사태위험지도
- 데이터 기준일 / Data Reference Date: 2025.05- 좌표 체계 / Spatial Reference: KGD2002 Central Belt (5181)
- 위험등급 정보 / 1~5등급, 1등급이 산사태 발생 위험도가 가장 높음
- 접경지역을 제외한 전국 단위 10m x 10m 해상도 Raster Imagery Layer
- 산림청(Korea Forest Service)에서 다양한 산사태 발생인자 중 영향이 큰 9개 인자를 선정하여 제작
(임상(숲모습), 경급(나무지름크기), 사면경사, 사면방위, 사면길이, 사면곡률, 모암, 토심, 지형습윤지수(TWI))
- 인위적 변화지를 보정인자로 적용하여 산사태 위험등급을 재조정
(도로, 건물, 송전탑, 임도, 절성토, 풍력발전단지, 태양광발전단지, 체육시설(골프장, 스키장), 산사태발생지, 산불피해지, 벌채지)
- 제작과정 모식도
Single Fused Map Cache: false
Extent:
XMin: -7279.2162346516125
YMin: -41959.38093213586
XMax: 632770.7837653484
YMax: 570000.6190678641
Spatial Reference: 5181
(5181)
Initial Extent:
XMin: -7279.2162346516125
YMin: -41959.38093213586
XMax: 632770.7837653484
YMax: 570000.6190678641
Spatial Reference: 5181
(5181)
Full Extent:
XMin: -7279.2162346516125
YMin: -41959.38093213586
XMax: 632770.7837653484
YMax: 570000.6190678641
Spatial Reference: 5181
(5181)
Pixel Size X: 10.0
Pixel Size Y: 10.0
Band Count: 1
Pixel Type: S32
RasterFunction Infos: {"rasterFunctionInfos": [{
"help": "",
"name": "None",
"description": ""
}]}
Mensuration Capabilities: Basic
Inspection Capabilities:
Has Histograms: true
Has Colormap: true
Has Multi Dimensions : false
Rendering Rule:
Min Scale: 0
Max Scale: 0
Copyright Text: https://map.forest.go.kr/forest/
Service Data Type: esriImageServiceDataTypeThematic
Min Values: 1
Max Values: 5
Mean Values: 3.0499808711286498
Standard Deviation Values: 1.087351984657458
Object ID Field:
Fields:
None
Default Mosaic Method: Center
Allowed Mosaic Methods:
SortField:
SortValue: N/A
Mosaic Operator: First
Default Compression Quality: 75
Default Resampling Method: Bilinear
Max Record Count: null
Max Image Height: 100000
Max Image Width: 100000
Max Download Image Count: null
Max Mosaic Image Count: null
Allow Raster Function: true
Allow Copy: true
Allow Analysis: true
Allow Compute TiePoints: false
Supports Statistics: false
Supports Advanced Queries: false
Use StandardizedQueries: false
Raster Type Infos:
Name: Raster Dataset
Description: Supports all ArcGIS Raster Datasets
Help:
Has Raster Attribute Table: true
Edit Fields Info: N/A
Ownership Based AccessControl For Rasters: N/A
Child Resources:
Info
Raster Attribute Table
Histograms
Statistics
Key Properties
Color Map
Legend
Raster Function Infos
Supported Operations:
Export Image
Identify
Measure
Compute Histograms
Compute Statistics Histograms
Get Samples
Compute Class Statistics
Query Boundary
Compute Pixel Location
Compute Angles
Validate
Project