View In:
ArcGIS JavaScript
ArcGIS Online Map Viewer
ArcGIS Earth
Service Description: Seocheon_WaterDepth_crf
Name: Seocheon_WaterDepth_crf
Description:
Single Fused Map Cache: false
Extent:
XMin: 922071.1026199114
YMin: 1778787.4627758851
XMax: 932240.5327826802
YMax: 1788956.892938654
Spatial Reference: 102080
(5179)
Initial Extent:
XMin: 922071.1026199114
YMin: 1778787.4627758851
XMax: 932240.5327826802
YMax: 1788956.892938654
Spatial Reference: 102080
(5179)
Full Extent:
XMin: 922071.1026199114
YMin: 1778787.4627758851
XMax: 932240.5327826802
YMax: 1788956.892938654
Spatial Reference: 102080
(5179)
Time Info:
Start Time Field: StdTime
End Time Field: StdTime
Time Extent:
[2025/09/22 11:04:59 UTC, 2025/09/22 12:00:00 UTC]
Time Reference:
N/A
Pixel Size X: 2.4827710358322292
Pixel Size Y: 2.4827710358322292
Band Count: 1
Pixel Type: F32
RasterFunction Infos: {"rasterFunctionInfos": [{
"help": "",
"name": "None",
"description": ""
}]}
Mensuration Capabilities: Basic
Inspection Capabilities:
Has Histograms: true
Has Colormap: false
Has Multi Dimensions : true
Rendering Rule:
Min Scale: 0
Max Scale: 0
Copyright Text:
Service Data Type: esriImageServiceDataTypeGeneric
Min Values: 0
Max Values: 5.1971940994262695
Mean Values: 0.059185011559022206
Standard Deviation Values: 0.14649005143479515
Object ID Field:
Fields:
None
Default Mosaic Method: Center
Allowed Mosaic Methods:
SortField:
SortValue: N/A
Mosaic Operator: First
Default Compression Quality: 75
Default Resampling Method: Bilinear
Max Record Count: null
Max Image Height: 15000
Max Image Width: 15000
Max Download Image Count: null
Max Mosaic Image Count: null
Allow Raster Function: true
Allow Copy: true
Allow Analysis: true
Allow Compute TiePoints: false
Supports Statistics: false
Supports Advanced Queries: false
Use StandardizedQueries: false
Raster Type Infos:
Name: Raster Dataset
Description: Supports all ArcGIS Raster Datasets
Help:
Has Raster Attribute Table: false
Edit Fields Info: N/A
Ownership Based AccessControl For Rasters: N/A
Child Resources:
Info
Histograms
Statistics
Key Properties
Legend
Raster Function Infos
Multidimensional Info
Slices
Supported Operations:
Export Image
Identify
Measure
Compute Histograms
Compute Statistics Histograms
Get Samples
Compute Class Statistics
Query Boundary
Compute Pixel Location
Compute Angles
Validate
Project