View In:
ArcGIS JavaScript
ArcGIS Online Map Viewer
ArcGIS Earth
Service Description: Seosan_WaterVelocity_crf
Name: Seosan_WaterVelocity_crf
Description:
Single Fused Map Cache: false
Extent:
XMin: 897801.1940223593
YMin: 1857875.334955418
XMax: 914900.5313534266
YMax: 1874974.6722864853
Spatial Reference: 102080
(5179)
Initial Extent:
XMin: 897801.1940223593
YMin: 1857875.334955418
XMax: 914900.5313534266
YMax: 1874974.6722864853
Spatial Reference: 102080
(5179)
Full Extent:
XMin: 897801.1940223593
YMin: 1857875.334955418
XMax: 914900.5313534266
YMax: 1874974.6722864853
Spatial Reference: 102080
(5179)
Time Info:
Start Time Field: StdTime
End Time Field: StdTime
Time Extent:
[2025/07/16 20:14:59 UTC, 2025/07/16 23:00:00 UTC]
Time Reference:
N/A
Pixel Size X: 4.174642903092604
Pixel Size Y: 4.174642903092604
Band Count: 2
Pixel Type: F32
RasterFunction Infos: {"rasterFunctionInfos": [{
"help": "",
"name": "None",
"description": ""
}]}
Mensuration Capabilities: Basic
Inspection Capabilities:
Has Histograms: false
Has Colormap: false
Has Multi Dimensions : true
Rendering Rule:
Min Scale: 0
Max Scale: 0
Copyright Text:
Service Data Type: esriImageServiceDataTypeGeneric
Min Values: N/A
Max Values: N/A
Mean Values: N/A
Standard Deviation Values: N/A
Object ID Field:
Fields:
None
Default Mosaic Method: Center
Allowed Mosaic Methods:
SortField:
SortValue: N/A
Mosaic Operator: First
Default Compression Quality: 75
Default Resampling Method: Nearest
Max Record Count: null
Max Image Height: 15000
Max Image Width: 15000
Max Download Image Count: null
Max Mosaic Image Count: null
Allow Raster Function: true
Allow Copy: true
Allow Analysis: true
Allow Compute TiePoints: false
Supports Statistics: false
Supports Advanced Queries: false
Use StandardizedQueries: false
Raster Type Infos:
Name: Raster Dataset
Description: Supports all ArcGIS Raster Datasets
Help:
Has Raster Attribute Table: false
Edit Fields Info: N/A
Ownership Based AccessControl For Rasters: N/A
Child Resources:
Info
Statistics
Key Properties
Legend
Raster Function Infos
Multidimensional Info
Slices
Supported Operations:
Export Image
Identify
Measure
Compute Histograms
Compute Statistics Histograms
Get Samples
Compute Class Statistics
Query Boundary
Compute Pixel Location
Compute Angles
Validate
Project