View In:
ArcGIS JavaScript
ArcGIS Online Map Viewer
ArcGIS Earth
Service Description: - Release Version: 2025.0
- 서비스 업데이트 / Updated: 2025.05
- 다음 업데이트 / Next Update: 2026.02
- 원본 데이터 출처 / Raw Data Source: 환경부 홍수위험지도 - 권역별 30년 빈도 도시침수지도
- 데이터 기준일 / Data Reference Date: 2025.02- 좌표 체계 / Spatial Reference: KGD2002 Central Belt (5181)
- 침수심 정보 / 0.5m 이하 ~ 5m 이상 총 5가지 유형
- 전국 단위 5m x 5m 해상도 Raster Imagery Layer
Name: Urban_Flood_30year
Description: - Release Version: 2025.0
- 서비스 업데이트 / Updated: 2025.05
- 다음 업데이트 / Next Update: 2026.02
- 원본 데이터 출처 / Raw Data Source: 환경부 홍수위험지도 - 권역별 30년 빈도 도시침수지도
- 데이터 기준일 / Data Reference Date: 2025.02- 좌표 체계 / Spatial Reference: KGD2002 Central Belt (5181)
- 침수심 정보 / 0.5m 이하 ~ 5m 이상 총 5가지 유형
- 전국 단위 5m x 5m 해상도 Raster Imagery Layer
Single Fused Map Cache: false
Extent:
XMin: 121276.70799999963
YMin: -29516.967800000682
XMax: 422851.70799999963
YMax: 551408.0321999993
Spatial Reference: 5181
(5181)
Initial Extent:
XMin: 121276.70799999963
YMin: -29516.967800000682
XMax: 422851.70799999963
YMax: 551408.0321999993
Spatial Reference: 5181
(5181)
Full Extent:
XMin: 121276.70799999963
YMin: -29516.967800000682
XMax: 422851.70799999963
YMax: 551408.0321999993
Spatial Reference: 5181
(5181)
Pixel Size X: 5.0
Pixel Size Y: 5.0
Band Count: 1
Pixel Type: U4
RasterFunction Infos: {"rasterFunctionInfos": [{
"help": "",
"name": "None",
"description": ""
}]}
Mensuration Capabilities: Basic
Inspection Capabilities:
Has Histograms: true
Has Colormap: false
Has Multi Dimensions : false
Rendering Rule:
Min Scale: 0
Max Scale: 0
Resampling: false
Copyright Text: https://data.floodmap.go.kr/main/board/map_data_download_detail/%EA%B6%8C%EC%97%AD%EB%B3%84%2030%EB%85%84%20%EB%B9%88%EB%8F%84%20%EB%8F%84%EC%8B%9C%EC%B9%A8%EC%88%98%EC%A7%80%EB%8F%84/25?searchString=&page=1
Service Data Type: esriImageServiceDataTypeThematic
Min Values: 1
Max Values: 5
Mean Values: 4.0373895100423871
Standard Deviation Values: 1.609557425847516
Object ID Field:
Fields:
None
Default Mosaic Method: Center
Allowed Mosaic Methods:
SortField:
SortValue: N/A
Mosaic Operator: First
Default Compression Quality: 75
Default Resampling Method: Bilinear
Max Record Count: null
Max Image Height: 4100
Max Image Width: 15000
Max Download Image Count: null
Max Mosaic Image Count: null
Allow Raster Function: true
Allow Copy: true
Allow Analysis: true
Allow Compute TiePoints: false
Supports Statistics: false
Supports Advanced Queries: false
Use StandardizedQueries: false
Raster Type Infos:
Name: Raster Dataset
Description: Supports all ArcGIS Raster Datasets
Help:
Has Raster Attribute Table: true
Edit Fields Info: N/A
Ownership Based AccessControl For Rasters: N/A
Child Resources:
Info
Raster Attribute Table
Histograms
Statistics
Key Properties
Legend
Raster Function Infos
Supported Operations:
Export Image
Identify
Measure
Compute Histograms
Compute Statistics Histograms
Get Samples
Compute Class Statistics
Query Boundary
Compute Pixel Location
Compute Angles
Validate
Project